BEGIN:VCALENDAR
VERSION:2.0
PRODID:-//Welcome to Lisa Långbacka - ECPv6.15.17.1//NONSGML v1.0//EN
CALSCALE:GREGORIAN
METHOD:PUBLISH
X-ORIGINAL-URL:https://lisalangbacka.com
X-WR-CALDESC:Events for Welcome to Lisa Långbacka
REFRESH-INTERVAL;VALUE=DURATION:PT1H
X-Robots-Tag:noindex
X-PUBLISHED-TTL:PT1H
BEGIN:VTIMEZONE
TZID:Europe/Stockholm
BEGIN:DAYLIGHT
TZOFFSETFROM:+0100
TZOFFSETTO:+0200
TZNAME:CEST
DTSTART:20240331T010000
END:DAYLIGHT
BEGIN:STANDARD
TZOFFSETFROM:+0200
TZOFFSETTO:+0100
TZNAME:CET
DTSTART:20241027T010000
END:STANDARD
BEGIN:DAYLIGHT
TZOFFSETFROM:+0100
TZOFFSETTO:+0200
TZNAME:CEST
DTSTART:20250330T010000
END:DAYLIGHT
BEGIN:STANDARD
TZOFFSETFROM:+0200
TZOFFSETTO:+0100
TZNAME:CET
DTSTART:20251026T010000
END:STANDARD
BEGIN:DAYLIGHT
TZOFFSETFROM:+0100
TZOFFSETTO:+0200
TZNAME:CEST
DTSTART:20260329T010000
END:DAYLIGHT
BEGIN:STANDARD
TZOFFSETFROM:+0200
TZOFFSETTO:+0100
TZNAME:CET
DTSTART:20261025T010000
END:STANDARD
BEGIN:DAYLIGHT
TZOFFSETFROM:+0100
TZOFFSETTO:+0200
TZNAME:CEST
DTSTART:20270328T010000
END:DAYLIGHT
BEGIN:STANDARD
TZOFFSETFROM:+0200
TZOFFSETTO:+0100
TZNAME:CET
DTSTART:20271031T010000
END:STANDARD
END:VTIMEZONE
BEGIN:VEVENT
DTSTART;TZID=Europe/Stockholm:20251204T190000
DTEND;TZID=Europe/Stockholm:20251204T190000
DTSTAMP:20260423T134933
CREATED:20250917T195707Z
LAST-MODIFIED:20250924T192220Z
UID:2145-1764874800-1764874800@lisalangbacka.com
SUMMARY:LISAS & Lena Willemark\, Stora Teatern Göteborg
DESCRIPTION:I VINTERSKRUD \nTre älskade och välrenommerade sång- och spelkvinnor – bjuder in till en exklusiv julkonsert. \nInnerligt och kraftfullt\, julens mest älskade sånger i personliga tolkningar som andas både tidlöshet\, tradition och förnyelse. Upplev en sällsamt uttrycksfull trio i en skrud av himmelska körklanger och låt julfriden infinna sig! \nMedverkande:\nLisa Långbacka\, accordeon och sång\nLisa Rydberg\, violin och sång\nLena Willemark\, violin\, viola och sång\nGöteborgs KammarkörGunnar Eriksson\, dirigent \nBiljetter: https://tickets.storateatern.se/sv/buyingflow/tickets/26385/109817 \nhttps://lisas.se
URL:https://lisalangbacka.com/event/lisas-lena-willemark-stora-teatern-goteborg/
LOCATION:Stora Teatern\, Göteborg\, Kungsparken 1\, Göteborg\, 411 36\, Sweden
CATEGORIES:folk
ATTACH;FMTTYPE=image/png:https://lisalangbacka.com/wp-content/uploads/2025/09/lisas-o-lena.png
END:VEVENT
BEGIN:VEVENT
DTSTART;TZID=Europe/Stockholm:20251207T150000
DTEND;TZID=Europe/Stockholm:20251207T150000
DTSTAMP:20260423T134933
CREATED:20250917T195707Z
LAST-MODIFIED:20250924T192158Z
UID:2146-1765119600-1765119600@lisalangbacka.com
SUMMARY:LISAS & Lena Willemark\, Stallet Stockholm
DESCRIPTION:I VINTERSKRUD \nJulkonsert med Lena Willemark\, Lisa Rydberg\, och Lisa Långbacka\nTre av våra mest uttrycksfulla musikskapare bjuder in till en exklusiv julkonsert där tradition möter förnyelse. I en tät och nära stämning får vi höra älskade julsånger i nya personliga tolkningar – i arrangemang som rör sig mellan det himmelska och det jordnära. Innerligt\, stämningsfullt och med ett musikaliskt djup som stannar kvar långt efter sista tonen klingat ut. \nBiljetter: https://secure.tickster.com/d9kzaxu0wamvjz3 \nhttps://lisas.se
URL:https://lisalangbacka.com/event/lisas-lena-willemark-stallet-stockholm/
LOCATION:Stallet\, Stockholm\, Stallgatan 7\, Stockholm\, 111 48\, Sweden
CATEGORIES:folk
ATTACH;FMTTYPE=image/png:https://lisalangbacka.com/wp-content/uploads/2025/09/lisas-o-lena.png
END:VEVENT
BEGIN:VEVENT
DTSTART;TZID=Europe/Stockholm:20251207T180000
DTEND;TZID=Europe/Stockholm:20251207T180000
DTSTAMP:20260423T134933
CREATED:20250917T195708Z
LAST-MODIFIED:20250924T192133Z
UID:2147-1765130400-1765130400@lisalangbacka.com
SUMMARY:LISAS & Lena Willemark\, Stallet Stockholm
DESCRIPTION:I VINTERSKRUD \nJulkonsert med Lena Willemark\, Lisa Rydberg\, och Lisa Långbacka\nTre av våra mest uttrycksfulla musikskapare bjuder in till en exklusiv julkonsert där tradition möter förnyelse. I en tät och nära stämning får vi höra älskade julsånger i nya personliga tolkningar – i arrangemang som rör sig mellan det himmelska och det jordnära. Innerligt\, stämningsfullt och med ett musikaliskt djup som stannar kvar långt efter sista tonen klingat ut. \nBiljetter: https://secure.tickster.com/ah8xrwrnfhzyhzd \nhttps://lisas.se
URL:https://lisalangbacka.com/event/lisas-lena-willemark-stallet-stockholm-2/
LOCATION:Stallet\, Stockholm\, Stallgatan 7\, Stockholm\, 111 48\, Sweden
CATEGORIES:folk
ATTACH;FMTTYPE=image/png:https://lisalangbacka.com/wp-content/uploads/2025/09/lisas-o-lena.png
END:VEVENT
BEGIN:VEVENT
DTSTART;TZID=Europe/Stockholm:20251211T193000
DTEND;TZID=Europe/Stockholm:20251211T193000
DTSTAMP:20260423T134933
CREATED:20251007T122700Z
LAST-MODIFIED:20251007T122728Z
UID:5394-1765481400-1765481400@lisalangbacka.com
SUMMARY:LISAS\, Konserthuset Oslo
DESCRIPTION:Knut Reiersrud har inviterat några av sina svenska musikvänner\ntill att fira Jul på svenska \nSvenskarna är inga mindre än Lisa Rydberg; Lisa Långbacka och Ale Möller.\nDet ryktas också om gästuppträdande från gränstrakterna. \nBiljetter: https://billetter.okh.no/nb/buyingflow/tickets/37076/ \nhttps://lisas.se
URL:https://lisalangbacka.com/event/lisas-konserthuset-oslo-3/
LOCATION:Konserthuset\, Oslo\, Munkedamsveien 14\, Oslo\, 0115\, Norway
CATEGORIES:Folkmusik
ATTACH;FMTTYPE=image/png:https://lisalangbacka.com/wp-content/uploads/2024/02/2023-12-12-jul-pa-svenska.png
END:VEVENT
BEGIN:VEVENT
DTSTART;TZID=Europe/Stockholm:20251213T180000
DTEND;TZID=Europe/Stockholm:20251213T180000
DTSTAMP:20260423T134933
CREATED:20251204T133339Z
LAST-MODIFIED:20251204T142336Z
UID:5827-1765648800-1765648800@lisalangbacka.com
SUMMARY:LISAS\, Tossene Kulturkyrka Hunnebostrand
DESCRIPTION:Lucia med LISAS\, Ale Möller och Knut Reiersrud \nSuccén från förra året är tillbaka! Ale Möller och Lisas har bjudit in musikmagikern Knut Reiersrud för att tillsammans med Carolina Friberg och Luciakören leda oss rakt in i varmaste vintermysstämningen. Vi bjuds på en helkväll med de mest älskade luciasångerna och några favoriter som vi kanske inte hört än. Kom och sjung med när hela Tossene Kulturkyrka firar den mest finstämda traditionen vi har – Lucia! \nBiljetter: https://www.biljettkiosken.se/luciakonsert2025 \nhttps://lisas.se
URL:https://lisalangbacka.com/event/lisas-tossene-kulturkyrka-hunnebostrand/
CATEGORIES:folk
ATTACH;FMTTYPE=image/png:https://lisalangbacka.com/wp-content/uploads/2025/12/lisas-tittar-at-hoger-1.png
END:VEVENT
BEGIN:VEVENT
DTSTART;TZID=Europe/Stockholm:20251214T150000
DTEND;TZID=Europe/Stockholm:20251214T150000
DTSTAMP:20260423T134933
CREATED:20250917T195711Z
LAST-MODIFIED:20250924T192116Z
UID:2149-1765724400-1765724400@lisalangbacka.com
SUMMARY:LISAS & Lena Willemark\, Östergötlands museum Linköping
DESCRIPTION:I VINTERSKRUD \nTre älskade och välrenommerade sång- och spelkvinnor – bjuder in till en exklusiv julkonsert. \nInnerligt och kraftfullt\, julens mest älskade sånger i personliga tolkningar som andas både tidlöshet\, tradition och förnyelse.\nUpplev en sällsamt uttrycksfull trio i en skrud av himmelska körklanger och låt julfriden infinna sig! \nBiljetter: https://makethescene.ticketco.events/se/sv/events/889898/seating_arrangement/sections/586009 \nhttps://lisas.se
URL:https://lisalangbacka.com/event/lisas-lena-willemark-ostergotlands-museum-linkoping/
LOCATION:Östergötlands museum\, Linköping\, Raoul Wallenbergs plats\, Linköping\, 582 18
CATEGORIES:folk
ATTACH;FMTTYPE=image/png:https://lisalangbacka.com/wp-content/uploads/2025/09/i-vinterskrud-lkp.png
END:VEVENT
BEGIN:VEVENT
DTSTART;TZID=Europe/Stockholm:20251217T190000
DTEND;TZID=Europe/Stockholm:20251217T190000
DTSTAMP:20260423T134933
CREATED:20251211T143502Z
LAST-MODIFIED:20251211T143606Z
UID:5836-1765998000-1765998000@lisalangbacka.com
SUMMARY:LISAS & Lena Willemark\, Örebro konserthus
DESCRIPTION:Dubé & Friends med Lena Willemark\, Lisa Rydberg och Lisa Långbacka \nTre av Sveriges mest uttrycksfulla och folkkära musiker – Lena Willemark\, Lisa Rydberg och Lisa Långbacka – gästar denna gång Sébastien Dubé för en oförglömlig afton. \nTillsammans väver de fyra fram ett möte där folkmusikens innersta nerv möter jazzens frihet och improvisationens lekfullhet. Ur detta uppstår ett varmt\, lyhört och stämningsfullt samspel\, där både tradition och nyskapande får ta plats. \nVi kommer att få höra smakprov från trions hyllade vinterkonsert ”Vinterskrud” – där julens mest älskade sånger får nytt liv i personliga\, himmelska tolkningar. Det blir innerligt\, kraftfullt och storslaget på samma gång.\nEn kväll som andas både vintermagi och musikalisk urkraft. \nMedverkande:\nLena Willemark – sång\, fiol; Lisa Rydberg – fiol; Lisa Långbacka – dragspel; Sébastien Dubé – kontrabas \nBiljetter: https://secure.tickster.com/sv/tb7hf88hfbr1w88/products \nhttps://lisas.se
URL:https://lisalangbacka.com/event/lisas-lena-willemark-orebro-konserthus/
LOCATION:Örebro konserthus\, Fabriksgatan 2\, Örebro\, 701 20\, Sweden
CATEGORIES:folk
ATTACH;FMTTYPE=image/png:https://lisalangbacka.com/wp-content/uploads/2025/12/dube-o-vanner.png
END:VEVENT
BEGIN:VEVENT
DTSTART;TZID=Europe/Stockholm:20251219T193000
DTEND;TZID=Europe/Stockholm:20251219T193000
DTSTAMP:20260423T134933
CREATED:20251204T133339Z
LAST-MODIFIED:20251204T133818Z
UID:5828-1766172600-1766172600@lisalangbacka.com
SUMMARY:LISAS & Lena Willemark\, Wij Trädgårdar Ockelbo
DESCRIPTION:Tre älskade sång- och spelkvinnor bjuder in till en exklusiv julkonsert i Ateljén på Wij Trädgårdar. \nI VINTERSKRUD\nInnerligt och kraftfullt\, julens mest älskade sånger i personliga tolkningar som andas både tidlöshet\, tradition och förnyelse. \nLena Willemark – Lisa Långbacka – Lisa Rydberg \nBiljetter: https://kulturbiljetter.se/kassa \nhttps://lisas.se
URL:https://lisalangbacka.com/event/lisas-lena-willemark-wij-tradgardar-ockelbo/
LOCATION:Wij Trädgårdar\, Ockelbo\, Ekbacken 9A-D\, Ockelbo\, 816 30
CATEGORIES:folk
ATTACH;FMTTYPE=image/png:https://lisalangbacka.com/wp-content/uploads/2025/09/lisas-o-lena.png
END:VEVENT
BEGIN:VEVENT
DTSTART;TZID=Europe/Stockholm:20251220T190000
DTEND;TZID=Europe/Stockholm:20251220T190000
DTSTAMP:20260423T134933
CREATED:20250917T195708Z
LAST-MODIFIED:20250924T191954Z
UID:2148-1766257200-1766257200@lisalangbacka.com
SUMMARY:LISAS & Lena Willemark\, Kulturoasen Uppsala
DESCRIPTION:I VINTERSKRUD \nLisa Långbacka\, Lena Willemark\, Lisa Rydberg – I Vinterskrud Ett möte mellan tre\, på sina respektive instrument\, unika musikanter. Lite som inför en stundande middagsbjudning; ett samtal som kan leda såväl längs gamla stigar och färdvägar som in på helt nya marker. Scenvana\, musikalitet och spelskicklighet här förkroppsligad av några av landets mest begåvade spelkvinnor. \nDörrarna öppnas 17.00 och då öppnar julbuffén portarna. Julkonserten startar 19.00. \nBiljetter: https://secure.tickster.com/sv/86yd0mknkrwxw6k \nhttps://lisas.se
URL:https://lisalangbacka.com/event/lisas-lena-willemark-kulturoasen-uppsala/
LOCATION:Kulturoasen\, Uppsala\, Hågavägen 188\, Uppsala\, 752 63\, Sweden
CATEGORIES:folk
ATTACH;FMTTYPE=image/png:https://lisalangbacka.com/wp-content/uploads/2025/09/lisas-o-lena.png
END:VEVENT
BEGIN:VEVENT
DTSTART;TZID=Europe/Stockholm:20251221T160000
DTEND;TZID=Europe/Stockholm:20251221T160000
DTSTAMP:20260423T134933
CREATED:20251204T133339Z
LAST-MODIFIED:20251204T133908Z
UID:5829-1766332800-1766332800@lisalangbacka.com
SUMMARY:LISAS & Lena Willemark\, Byskolan Stavsnäs
DESCRIPTION:Julkosert med Lena Willemark\, Lisa Rydberg och Lisa Långbacka \nTre älskade sång- och spel- kvinnor – bjuder in till en exklusiv julkonsert.\nInnerligt och kraftfullt\, med julens favoriter i personliga tolkningar. \nKaffe\, öl\, vin\, glögg och pepparkakor i barenVälkomna! \nhttps://lisas.se
URL:https://lisalangbacka.com/event/lisas-lena-willemark-byskolan-stavsnas/
LOCATION:Byskolan\, Stavsnäs\, Skolvägen 15\, Stavsnäs\, 139 70
CATEGORIES:folk
ATTACH;FMTTYPE=image/png:https://lisalangbacka.com/wp-content/uploads/2025/09/lisas-o-lena.png
END:VEVENT
BEGIN:VEVENT
DTSTART;TZID=Europe/Stockholm:20260220T200000
DTEND;TZID=Europe/Stockholm:20260220T200000
DTSTAMP:20260423T134933
CREATED:20260323T210633Z
LAST-MODIFIED:20260323T210633Z
UID:5849-1771617600-1771617600@lisalangbacka.com
SUMMARY:LISAS\, Sigtunastiftelsen
DESCRIPTION:Musikbar: Lisa Långbacka och Lisa Rydberg – Fullbokat! \nLISAS utgörs av två av Sveriges mest kritikerrosade musiker med världen som spelplats – Lisa Långbacka\, accordeon\, och Lisa Rydberg\, fiol. LISAS inbjuder dig att njuta av musik som nyfiket tänjer på genregränserna\, och ensemblespel som kännetecknas av lyhördhet och intensitet. Repertoaren består av traditionell folkmusik såväl som egna kompositioner\, influerade av folkmusik\, barockmusik\, tango\, modern konst- och filmmusik. \nBoka gärna bord i vår restaurang i samband med ditt besök! Avnjut vår populära Kulturmacka eller välj direkt från vår à la carte meny. Restaurangen öppnar 17.00www.sigtunastiftelsen.se ”BOKA BORD \nhttps://lisas.se“
URL:https://lisalangbacka.com/event/lisas-sigtunastiftelsen-2/
LOCATION:Sigtunastiftelsen\, Manfred Björkquists allé 4\, Sigtuna\, 193 31\, Sweden
CATEGORIES:folk
END:VEVENT
BEGIN:VEVENT
DTSTART;TZID=Europe/Stockholm:20260307T170000
DTEND;TZID=Europe/Stockholm:20260307T170000
DTSTAMP:20260423T134933
CREATED:20260323T210634Z
LAST-MODIFIED:20260323T210634Z
UID:5850-1772902800-1772902800@lisalangbacka.com
SUMMARY:LISAS\, Lidköpings Konsertförening
DESCRIPTION:LISAS – Lisa Rydberg fiol och Lisa Långbacka accordeon – Grammisbelönad duo! \nLISAS har även ett samarbete med konstnären och grafikern David Giese. Under våren 2026 kommer de med stöd av STIM och Statens Kulturråd att uruppföra ny musik som de skapat till Davids animationer. Vid denna konsert bjuder duon\, vid sidan av sin mer inarbetade repertoar\, även på smakprov ur denna nya svit. \nhttps://lisas.se
URL:https://lisalangbacka.com/event/lisas-lidkopings-konsertforening/
CATEGORIES:folk
END:VEVENT
BEGIN:VEVENT
DTSTART;TZID=Europe/Stockholm:20260308T180000
DTEND;TZID=Europe/Stockholm:20260308T180000
DTSTAMP:20260423T134933
CREATED:20260323T210634Z
LAST-MODIFIED:20260323T210634Z
UID:5851-1772992800-1772992800@lisalangbacka.com
SUMMARY:LISAS\, Markuskyrkan Johanneshov
DESCRIPTION:Konsert på internationella kvinnodagen med LISAS\, Markuskyrkans damkör Vox Marci under ledning av Åsa Schmidt \nKonsert på internationella kvinnodagen. LISAS – Lisa Rydberg barockviolinist och riksspelman\, Lisa Långbacka ackordeon. Markuskyrkan damkör Vox Marci under ledning av Åsa Schmidt. \nhttps://lisas.se
URL:https://lisalangbacka.com/event/lisas-markuskyrkan-johanneshov/
LOCATION:Markuskyrkan\, Johanneshov\, Malmövägen 51\, Johanneshov\, 121 53
CATEGORIES:folk
END:VEVENT
BEGIN:VEVENT
DTSTART;TZID=Europe/Stockholm:20260314T180000
DTEND;TZID=Europe/Stockholm:20260314T180000
DTSTAMP:20260423T134933
CREATED:20260323T210635Z
LAST-MODIFIED:20260323T210635Z
UID:5852-1773511200-1773511200@lisalangbacka.com
SUMMARY:LISAS\, Aggershus Östansjö
DESCRIPTION:Nu kommer den här underbart fina duon tillbaka! MISSA INTE DEN HÄR KONSERTEN!” \nKonsert med duon LISAS \nFÖRBOKA GÄRNA BILJETTER VIA MAIL: ingela.agger@telia.com eller eller sms:a/ring på tel: 0705580526 \nhttps://lisas.se“
URL:https://lisalangbacka.com/event/lisas-aggershus-ostansjo-3/
LOCATION:Aggershus\, Östansjö\, Berga Skola 349\, Östansjö\, 694 93\, Sweden
CATEGORIES:folk
END:VEVENT
BEGIN:VEVENT
DTSTART;TZID=Europe/Stockholm:20260318T200000
DTEND;TZID=Europe/Stockholm:20260318T200000
DTSTAMP:20260423T134933
CREATED:20260323T210635Z
LAST-MODIFIED:20260323T210635Z
UID:5853-1773864000-1773864000@lisalangbacka.com
SUMMARY:LISAS\, Katalin Uppsala
DESCRIPTION:LISAS på Katalins jazzbar \nViolinisten Lisa Rydberg och accordeonisten Lisa Långbacka har rötterna i folkmusiken men är samtidigt förankrade i andra genrer. 2011 bildade de tillsammans LISAS och har sen dess framträtt i Europa\, USA och Kanada. Debutalbumet Fiddle & Accordion Conversations har hyllats av kritikerna och valts till ett av århundradets viktigaste folkmusikskivor i tidningen LIRA\, samt tilldelats Manifestpriset 2018. Duon har samarbetat med artister som Lena Willemark\, Sofia Karlsson\, Staffan Hellstrand\, Danska Radions kammarkör m.fl.Insläpp 18:00 \nBiljetter: https://www.tickster.com/se/sv/events/wnklctygduhumy4/2026-03-18/lisas-pa-katalins-jazzbar \nhttps://lisas.se
URL:https://lisalangbacka.com/event/lisas-katalin-uppsala/
CATEGORIES:folk
END:VEVENT
BEGIN:VEVENT
DTSTART;TZID=Europe/Stockholm:20260419T150000
DTEND;TZID=Europe/Stockholm:20260419T150000
DTSTAMP:20260423T134933
CREATED:20260323T210637Z
LAST-MODIFIED:20260323T211354Z
UID:5854-1776610800-1776610800@lisalangbacka.com
SUMMARY:LISAS\, Nobel Prize Museum Stockholm
DESCRIPTION:Söndagssalong – Avsluta eftermiddagen med afternoon tea. 19 april står duon LISAS för musiken. \nUnder fyra söndagar bjuder Nobelprismuseet in musiker att framföra en kärleksfull och klassisk repertoar. Temat för konsertserien är kärlek; den lyckliga\, den efterlängtade\, den obesvarade\, den eviga. \nVårens sista Söndagssalong inleds med ett samtal mellan LISAS och Nobelprismuseets Carin Klaesson\, om hur kärlekens många uttryck speglas i både Nobelpris och musik. Samtalet följs av en konsert där den prisbelönta duon LISAS spelar allt från barock till svensk folkmusik. \nBiljetter: https://bokning.nobelprizemuseum.se/evenemang/0083-?lang=SV \nhttps://lisas.se
URL:https://lisalangbacka.com/event/lisas-nobel-prize-museum-stockholm/
LOCATION:Nobel Prize Museum\, Stockholm\, Stortorget 2\, Stockholm\, 103 16
CATEGORIES:folk
ATTACH;FMTTYPE=image/png:https://lisalangbacka.com/wp-content/uploads/2026/03/lisas-tittar-at-hoger-1.png
END:VEVENT
END:VCALENDAR